BEGIN:VCALENDAR
VERSION:2.0
PRODID:-// - ECPv6.15.18//NONSGML v1.0//EN
CALSCALE:GREGORIAN
METHOD:PUBLISH
X-ORIGINAL-URL:https://wenetworknow.org
X-WR-CALDESC:Events for 
REFRESH-INTERVAL;VALUE=DURATION:PT1H
X-Robots-Tag:noindex
X-PUBLISHED-TTL:PT1H
BEGIN:VTIMEZONE
TZID:America/Chicago
BEGIN:DAYLIGHT
TZOFFSETFROM:-0600
TZOFFSETTO:-0500
TZNAME:CDT
DTSTART:20180311T080000
END:DAYLIGHT
BEGIN:STANDARD
TZOFFSETFROM:-0500
TZOFFSETTO:-0600
TZNAME:CST
DTSTART:20181104T070000
END:STANDARD
BEGIN:DAYLIGHT
TZOFFSETFROM:-0600
TZOFFSETTO:-0500
TZNAME:CDT
DTSTART:20190310T080000
END:DAYLIGHT
BEGIN:STANDARD
TZOFFSETFROM:-0500
TZOFFSETTO:-0600
TZNAME:CST
DTSTART:20191103T070000
END:STANDARD
BEGIN:DAYLIGHT
TZOFFSETFROM:-0600
TZOFFSETTO:-0500
TZNAME:CDT
DTSTART:20200308T080000
END:DAYLIGHT
BEGIN:STANDARD
TZOFFSETFROM:-0500
TZOFFSETTO:-0600
TZNAME:CST
DTSTART:20201101T070000
END:STANDARD
BEGIN:DAYLIGHT
TZOFFSETFROM:-0600
TZOFFSETTO:-0500
TZNAME:CDT
DTSTART:20210314T080000
END:DAYLIGHT
BEGIN:STANDARD
TZOFFSETFROM:-0500
TZOFFSETTO:-0600
TZNAME:CST
DTSTART:20211107T070000
END:STANDARD
BEGIN:DAYLIGHT
TZOFFSETFROM:-0600
TZOFFSETTO:-0500
TZNAME:CDT
DTSTART:20220313T080000
END:DAYLIGHT
BEGIN:STANDARD
TZOFFSETFROM:-0500
TZOFFSETTO:-0600
TZNAME:CST
DTSTART:20221106T070000
END:STANDARD
END:VTIMEZONE
BEGIN:VEVENT
DTSTART;TZID=America/Chicago:20210807T110000
DTEND;TZID=America/Chicago:20210807T120000
DTSTAMP:20260423T000546
CREATED:20211102T234615Z
LAST-MODIFIED:20211102T235315Z
UID:9814-1628334000-1628337600@wenetworknow.org
SUMMARY:Amazon Web Services (AWS) Introductory Workshop
DESCRIPTION:The world of cloud computing is upon us\, and Amazon is leading the way. We are thrilled to host are an Amazon Web Services (AWS) introductory workshop on Saturday\, August 7\, 2021 from 11 a.m – 12 p.m. No AWS experience is required — and it is free to attend this
URL:https://wenetworknow.org/events/amazon-web-services-aws-introductory-workshop/
LOCATION:Online Event
ATTACH;FMTTYPE=image/jpeg:https://wenetworknow.org/wp-content/uploads/2021/11/Screenshot-2021-11-02-at-18.47.07-1.jpeg
ORGANIZER;CN="WeNetworkNow":MAILTO:info@wenetworknow.org
END:VEVENT
BEGIN:VEVENT
DTSTART;TZID=America/Chicago:20210724T170000
DTEND;TZID=America/Chicago:20210724T193000
DTSTAMP:20260423T000546
CREATED:20210724T211421Z
LAST-MODIFIED:20240306T010051Z
UID:9694-1627146000-1627155000@wenetworknow.org
SUMMARY:Outstanding Immigrant & Refugee Awards Celebration
DESCRIPTION:Since its inception\, WeNetworkNow has transformed many lives – and this work was recognized by the State of Minnesota – thus winning our Founder and Executive\, Mamady Konnehh\, the recipient of the 2021 Outstanding Refugee and Immigrant awards.  \nThis event is to celebrate the great work that our team\, supporters\, and partners have been doing to further WeNetworkNow’s mission.
URL:https://wenetworknow.org/events/outstanding-immigration-refugee-awards-celebration/
LOCATION:Punch Bowl Social\, 1691 Park Pl Blvd\, St Louis Park\,\, MN\, 55416
ATTACH;FMTTYPE=image/jpeg:https://wenetworknow.org/wp-content/uploads/2021/07/Mamady_Tim-Waltz.jpg
END:VEVENT
BEGIN:VEVENT
DTSTART;TZID=America/Chicago:20210612T100000
DTEND;TZID=America/Chicago:20210612T120000
DTSTAMP:20260423T000546
CREATED:20210523T063148Z
LAST-MODIFIED:20240306T013900Z
UID:9755-1623492000-1623499200@wenetworknow.org
SUMMARY:Career Fair with Target\, Xcel Energy\, Integris\, Minneapolis Foundation\, and the State of Minnesota
DESCRIPTION:Whether you are looking for a job or exploring your options on the job market\, have you ever thought about having a one-on-one with recruiters from some of the top employers in Minnesota? If so\, I’m happy to inform you that Target\, Xcel Energy\, Integris\, Minneapolis Foundations\, and the Department of Employment and Economic Development (DEED) will be joining us for a virtual career fair — slated for Saturday\, June 12\, 2021\, from 10 a.m. to 12 p.m. RSVP and have your updated resume handy to chat with professional recruiters.
URL:https://wenetworknow.org/events/wenetworknow-virtual-career-fair/
LOCATION:Online Event
ATTACH;FMTTYPE=image/png:https://wenetworknow.org/wp-content/uploads/2021/05/WNN-Career-Fair_resized-1.png
END:VEVENT
BEGIN:VEVENT
DTSTART;TZID=America/Chicago:20210501T110000
DTEND;TZID=America/Chicago:20210501T120000
DTSTAMP:20260423T000546
CREATED:20210421T161916Z
LAST-MODIFIED:20240306T010440Z
UID:9732-1619866800-1619870400@wenetworknow.org
SUMMARY:How Money Works: Take Control of your Finances
DESCRIPTION:Conversations about personal finance have never been as culturally relevant as they are today  — and we are excited to have Muajtsim Vang join us for a webinar on this very topic that you do not want to miss. Mr. Vang will be unpacking and demystifying personal finances and help you be in control of your finances. \nAbout our Speaker \nMr. Muajtsim Vang has been in the financial industry for 10 years professionally and 20 years in close proximity to the industry watching his father help families with finances in the Twin Cities.  Mr. Vang has had firsthand experience of how the knowledge of “How Money Works” can impact one’s life.  As his family came from the refugee camps of the Vietnam war to living the American dream\, he is looking forward to sharing the knowledge that his family has implemented to help grow our community.
URL:https://wenetworknow.org/events/how-money-works-take-control-of-your-finances/
LOCATION:Online Event
ATTACH;FMTTYPE=image/png:https://wenetworknow.org/wp-content/uploads/2021/05/HMW_resized.png
ORGANIZER;CN="WeNetworkNow":MAILTO:info@wenetworknow.org
END:VEVENT
BEGIN:VEVENT
DTSTART;TZID=America/Chicago:20201010T100000
DTEND;TZID=America/Chicago:20201010T113000
DTSTAMP:20260423T000546
CREATED:20200924T054406Z
LAST-MODIFIED:20240306T011756Z
UID:9411-1602324000-1602329400@wenetworknow.org
SUMMARY:Build Your Brand Workshop
DESCRIPTION:Do you struggle to “sell yourself” when speaking with potential employers? Does your LinkedIn profile need a refresh to really highlight your skill sets? Then you need to join us on Saturday\, October 10\, 2020\, from 10 a.m – 11:30 a.m. for a virtual workshop on “building your brand” with Minnesota’s top HR talents! \nWeNetworkNow is excited to announce a second collaboration with experienced Human Resources professionals from some of Minnesota’s best-known organizations! This 90-minute workshop will focus on honing your LinkedIn profile\, developing a “personal pitch\,” and preparing for interviews. A portion of the workshop will be dedicated to personalized coaching – you can ask questions to the individuals responsible for hiring the most competitive talent in the country!
URL:https://wenetworknow.org/events/build-your-brand-with-wenetworknow/
LOCATION:Online Event
ATTACH;FMTTYPE=image/jpeg:https://wenetworknow.org/wp-content/uploads/2020/09/Edited-photo-4.jpg
END:VEVENT
BEGIN:VEVENT
DTSTART;TZID=America/Chicago:20200815T090000
DTEND;TZID=America/Chicago:20200815T110000
DTSTAMP:20260423T000546
CREATED:20200816T030927Z
LAST-MODIFIED:20240306T005642Z
UID:9104-1597482000-1597489200@wenetworknow.org
SUMMARY:Make your Resume Stand Out Workshop
DESCRIPTION:Have you ever wondered how to get your resume to stand out in a sea of applicants? Are you looking to make a career transition? Unsure how to get your resume directly into the hands of recruiters for some of the most competitive jobs in Minnesota and the nation? \nJoin us for a virtual workshop on how to get your resume noticed! In this workshop\, the attendees will get more tailored advice from one of the most experienced recruiters from the top Fortune 500 companies such as Target. WeNetworkNow is thrilled to be joined by experienced Human Resources professionals from Minnesota’s top Fortune 500 companies. They will answer questions\, share their experiences\, and provide tips on how to stand out in this highly competitive market. \nRegister ASAP\, as spaces are limited to only 40 attendees! This is a rare opportunity to connect with the HR professionals responsible for sourcing some of the best talent in the nation. \n 
URL:https://wenetworknow.org/events/workshop-how-to-make-your-resume-stand-out/
LOCATION:Online Event
CATEGORIES:Workshop
ATTACH;FMTTYPE=image/jpeg:https://wenetworknow.org/wp-content/uploads/2020/09/Photo1.jpeg
END:VEVENT
BEGIN:VEVENT
DTSTART;TZID=America/Chicago:20200801T120000
DTEND;TZID=America/Chicago:20200801T130000
DTSTAMP:20260423T000546
CREATED:20190924T165533Z
LAST-MODIFIED:20240306T020416Z
UID:5986-1596283200-1596286800@wenetworknow.org
SUMMARY:The Importance of Grassroots Movement with Mohy Omer
DESCRIPTION:We are thrilled to invite you to yet another exciting webinar session. It is an honor to have Mr. Mohy Omer virtually visit WeNetworkNow. He will be presenting on The Importance of Grassroots Movement in the Age of Uncertainties. \nAbout our Speaker\, Mohy Omer \nMohy Omer is a Sudanese American who moved to the States after living in the world’s largest refugee camp in Kenya. Mr. Omer has more than 8 years of work experience in the field of international development\, US foreign policy \, and diplomacy. Currently\, he is the Policy Analyst for East and Southern Africa at the U.S. Commission on International Religious Freedom (USCIRF). Prior to USCIRF\, Mr. Omer worked at the National Democratic Institute (NDI) as a program officer for the Middle East and North Africa team. Prior to that\, Mr. Omer worked for the United States Institute of Peace (USIP) where he coordinated the Youth Leaders Program. Before joining USIP\, Mr. Omer worked for U.S. Senator Heidi Heitkamp in Fargo\, ND as well as in Washington DC. While working for the Senator he concentrated on researching and writing on foreign affairs\, national security\, and defense issues. \nMr. Omer is also the founder of the Sudan Task Force in Washington DC\, an initiative aimed at articulating to the U.S. government and non-governmental actors the importance of greater U.S. involvement in Sudan. Mr. Omer holds a B.S. in Political Science from North Dakota State University and M.A. in International Relations from Syracuse University.
URL:https://wenetworknow.org/events/importance-of-grassroots-movements/
LOCATION:Online Event
CATEGORIES:Webinar
ATTACH;FMTTYPE=image/jpeg:https://wenetworknow.org/wp-content/uploads/2020/09/Edited-photo.jpg
END:VEVENT
BEGIN:VEVENT
DTSTART;TZID=America/Chicago:20200606T130000
DTEND;TZID=America/Chicago:20200606T150000
DTSTAMP:20260423T000546
CREATED:20201007T033511Z
LAST-MODIFIED:20240306T031726Z
UID:9628-1591448400-1591455600@wenetworknow.org
SUMMARY:Community Listening Session
DESCRIPTION:One of WeNetworkNow’s core values is “Connection” — and we owe it to our members and communities to have meaningful conversations that connect people to one another\, especially during these unprecedented times. Thus\, we are organizing a “Community Listening” session\, slated for Saturday\, June 6th\, 2020\, from 1 – 3 p.m. CDT. Attendees will be encouraged to share their stories as it relates to their personal and professional experiences. These discussions will give us the opportunity to listen\, connect\, and embrace our diversity.
URL:https://wenetworknow.org/events/lets-share-our-stories/
LOCATION:Online Event
ATTACH;FMTTYPE=image/png:https://wenetworknow.org/wp-content/uploads/2020/05/WENETWORK_LOGO_TRANSPARENT.png
END:VEVENT
BEGIN:VEVENT
DTSTART;TZID=America/Chicago:20200503T130000
DTEND;TZID=America/Chicago:20200503T140000
DTSTAMP:20260423T000546
CREATED:20200913T234424Z
LAST-MODIFIED:20240306T013515Z
UID:9180-1588510800-1588514400@wenetworknow.org
SUMMARY:Lessons Learned in the Humanitarian Field with Violeta Garcia
DESCRIPTION:In the spirit of supporting our communities and members\, WeNetworkNow is thrilled to have Violeta Chocarro Garcia join us for a webinar on her experience on the “Humanitarian and Development Field.” The webinar is slated for Saturday\, May 23rd\, 2020 from 1 – 2:30 p.m. CDT. \nMs. Garcia is a Program Manager at the United States Institute of Peace (USIP) – she has many years of experience in the peacekeeping realm – working for renowned International Organizations such as Amnesty International\, Search for Common Ground\, and DanChurchAid. Ms. Garcia has a BA in Peace Studies and an M.S. in Global Studies from New York University (NYU.)
URL:https://wenetworknow.org/events/networking-event/
LOCATION:Online Event
ATTACH;FMTTYPE=image/jpeg:https://wenetworknow.org/wp-content/uploads/2024/03/Violeta-Garcia.jpeg
END:VEVENT
BEGIN:VEVENT
DTSTART;TZID=America/Chicago:20200425T130000
DTEND;TZID=America/Chicago:20200425T143000
DTSTAMP:20260423T000546
CREATED:20200921T032003Z
LAST-MODIFIED:20240306T020625Z
UID:9294-1587819600-1587825000@wenetworknow.org
SUMMARY:Striving in a Moment of Crisis with Wisdom Primus
DESCRIPTION:In support of our communities and members\, WeNetworknow was fortunate to book an NYT #1 bestseller\, educator\, and motivational speaker for a webinar\, slated for 4/25 from 1 – 2:30 p.m. This webinar is geared towards providing us some tips on how to cope and cultivate healthy emotion during these challenging times. \nAbout our Speaker\, Wisdom Primus \nMr. Primus was born in Togo (a West African country); he has a strong passion for entrepreneurship. He has built his career as a Professor and a proven Inspirational and Immersion speaker who is dedicated to helping people create a more balanced life they truly deserve. \nMr. Primus is currently providing Leadership Coaching to individuals and organizations to improve their morale\, teamwork and communication skills\, and ultimately achieve better results. \nMr. Primus is a New York Times & Amazon #1 Best Selling author of the\nbook “Being Successful While Lying on The Couch! Really?” He has given keynote presentations at different companies’ events\, nonprofit organizations\, and academic institutions.
URL:https://wenetworknow.org/events/webinar-striving-in-a-moment-of-crisis/
LOCATION:Online Event
ATTACH;FMTTYPE=image/jpeg:https://wenetworknow.org/wp-content/uploads/2024/03/Wisdom.jpeg
END:VEVENT
BEGIN:VEVENT
DTSTART;TZID=America/Chicago:20200207T180000
DTEND;TZID=America/Chicago:20200207T210000
DTSTAMP:20260423T000546
CREATED:20200918T044514Z
LAST-MODIFIED:20240306T005954Z
UID:9264-1581098400-1581109200@wenetworknow.org
SUMMARY:Networking Event: Meet & Learn
DESCRIPTION:WeNetworkNow is an organization that connects professionals from African descent to opportunities via networking events\, workshops\, webinars\, mentorship\, and podcasting.
URL:https://wenetworknow.org/events/networking-event-meet-connect/
LOCATION:Stanley’s Northeast Bar\, 2500 University Ave NE\, minneapolis\, MN\, 55418\, United States
ATTACH;FMTTYPE=image/png:https://wenetworknow.org/wp-content/uploads/2020/05/WENETWORK_LOGO_TRANSPARENT.png
END:VEVENT
BEGIN:VEVENT
DTSTART;TZID=America/Chicago:20200104T173000
DTEND;TZID=America/Chicago:20200104T220000
DTSTAMP:20260423T000546
CREATED:20180816T165715Z
LAST-MODIFIED:20240306T032142Z
UID:5989-1578159000-1578175200@wenetworknow.org
SUMMARY:WeNetworkNow Launch Day
DESCRIPTION:WeNetworkNow is an organization that connects professionals from African descent to opportunities via networking events\, workshops\, webinars\, mentorship\, and podcasting.
URL:https://wenetworknow.org/events/emergency-first-aid-at-work-london/
LOCATION:Hello Apartments\, 9201 Golden Valley Road\, Golden Valley\, Washington\, MN\, 55427\, United States
ATTACH;FMTTYPE=image/jpeg:https://wenetworknow.org/wp-content/uploads/2020/09/Pre-launch-day-1.jpg
END:VEVENT
BEGIN:VEVENT
DTSTART;TZID=America/Chicago:20191206T120000
DTEND;TZID=America/Chicago:20191206T120000
DTSTAMP:20260423T000546
CREATED:20180816T170220Z
LAST-MODIFIED:20240306T032119Z
UID:5993-1575633600-1575633600@wenetworknow.org
SUMMARY:Networking Event: Meet & Learn
DESCRIPTION:WeNetworkNow is an organization that connects professionals from African descent to opportunities via networking events\, workshops\, webinars\, mentorship\, and podcasting.
URL:https://wenetworknow.org/events/youth-commissioner-weekend/
LOCATION:Punch Bowl Social\, 1691 Park Pl Blvd\, St Louis Park\,\, MN\, 55416
CATEGORIES:Networking Event
ATTACH;FMTTYPE=image/png:https://wenetworknow.org/wp-content/uploads/2020/05/WENETWORK_LOGO_TRANSPARENT.png
END:VEVENT
END:VCALENDAR